BEGIN:VCALENDAR
VERSION:2.0
PRODID:spatie/icalendar-generator
DESCRIPTION:Events from Oakland\, Charter Township (Oakland\, MI)
X-WR-CALDESC:Events from Oakland\, Charter Township (Oakland\, MI)
REFRESH-INTERVAL;VALUE=DURATION:PT1440M
X-PUBLISHED-TTL:PT1440M
BEGIN:VTIMEZONE
TZID:America/Detroit
BEGIN:STANDARD
DTSTART:20251102T020000Z
TZOFFSETFROM:-0400
TZOFFSETTO:-0500
END:STANDARD
BEGIN:DAYLIGHT
DTSTART:20260308T020000Z
TZOFFSETFROM:-0500
TZOFFSETTO:-0400
END:DAYLIGHT
BEGIN:STANDARD
DTSTART:20261101T020000Z
TZOFFSETFROM:-0400
TZOFFSETTO:-0500
END:STANDARD
END:VTIMEZONE
BEGIN:VTIMEZONE
TZID:UTC
BEGIN:STANDARD
DTSTART:20250729T115216Z
TZOFFSETFROM:+0000
TZOFFSETTO:+0000
END:STANDARD
END:VTIMEZONE
BEGIN:VEVENT
UID:207-142
DTSTAMP:20260425T115216Z
SUMMARY:Planning Commission Meeting Cancelled
LOCATION:Township Hall 4393 Collins Rd.  Rochester MI 48306
ORGANIZER;CN=Corrin Hearld:MAILTO:chearld@oaklandtwpmi.gov
DTSTART;TZID=America/Detroit:20260505T190000
DTEND;TZID=America/Detroit:20260505T200000
X-ALT-DESC;FMTTYPE=TEXT/HTML:
CATEGORIES:General
URL;VALUE=URI:https://oaklandtwpmi.gov/mc-events/planning-commission-meetin
 g-cancelled-8/
METHOD:PUBLISH
END:VEVENT
END:VCALENDAR